BEGIN:VCALENDAR
VERSION:2.0
PRODID:-//Yii2 Events//EN
BEGIN:VEVENT
UID:69e771b3bb316@drustvo-muc.si.eventure.si
DTSTAMP:20260421T124643Z
DTSTART:20250531T100000
DTEND:20250607T180000
SUMMARY:HIMALAYA na IŽU - program za konkretno preobrazbo
DESCRIPTION:Večdnevni program "HIMALAYA na IŽU" ponuja priložnost za osebnostno rast\, sprostitev in učenje po himalajskih metodah. Odkrijte globine sebe\, uživajte v naravi in doživite celosten oddih od 31. maja do 6. junija na otoku Iž.
LOCATION:Iž\, Slovenia
URL:https://drustvo-muc.si.eventure.si/hr/event/himalaya-na-izu-program-za-konkretno-preobrazbo
END:VEVENT
END:VCALENDAR
