BEGIN:VCALENDAR
VERSION:2.0
PRODID:-//Yii2 Events//EN
BEGIN:VEVENT
UID:69e710caabd4f@drustvo-muc.si.eventure.si
DTSTAMP:20260421T055314Z
DTSTART:20250924T180000
DTEND:20250924T193000
SUMMARY: ENAKONOČJE - 𝗗𝘂š𝗻𝗮 𝗴𝗼𝗻𝗴 𝗸𝗼𝗽𝗲𝗹 𝘃 𝗻𝗮𝗿𝗮𝘃𝗶 ~ GRAD KROMBERK
DESCRIPTION:Pridružite se nam na transformativni zvočni kopeli ob jesenskem enakonočju na Gradu Kromberk 23. septembra v čudovitih naravnih okoljih.
LOCATION:v središču parka za gradom\, Grajska cesta 1\, Kromberk\, Slovenia
URL:https://drustvo-muc.si.eventure.si/hr/event/enakonocje-s-grad-kromberk
END:VEVENT
END:VCALENDAR
