BEGIN:VCALENDAR
VERSION:2.0
PRODID:-//Yii2 Events//EN
BEGIN:VEVENT
UID:69e6e8dc7d2e6@drustvo-muc.si.eventure.si
DTSTAMP:20260421T030252Z
DTSTART:20250618T180000
DTEND:20250618T190000
SUMMARY:DRAMILO - Trzin
DESCRIPTION:Pridružite se nam na dogodku DRAMILO v Trzinu\, kjer boste odkrili moč skupinskosti\, ki rešuje\, poučuje\, pomirja in zdravi. Ne zamudite edinstvene priložnosti za doživetje našega dramila!
LOCATION:Ljubljana\, Slovenia
URL:https://drustvo-muc.si.eventure.si/hr/event/dramilo-trzin
END:VEVENT
END:VCALENDAR
