BEGIN:VCALENDAR
VERSION:2.0
PRODID:-//Yii2 Events//EN
BEGIN:VEVENT
UID:69e700f3e9f3e@drustvo-muc.si.eventure.si
DTSTAMP:20260421T044539Z
DTSTART:20260401T180000
DTEND:20260401T190000
SUMMARY:✨ DRAMILO ✨ 
DESCRIPTION:Pridružite se DRAMILU\, delavnici\, ki raziskuje življenjske izzive skozi žive postavitve. Izkušnje skupne ustvarjalnosti\, skupinsko delo\, individualne izkušje. Bogastvo skupne sreče. 
LOCATION:Črnuče\, Trzin\, gasilski dom nov\, Slovenia
URL:https://drustvo-muc.si.eventure.si/hr/event/dramilo-7
END:VEVENT
END:VCALENDAR
