BEGIN:VCALENDAR
VERSION:2.0
PRODID:-//Yii2 Events//EN
BEGIN:VEVENT
UID:69e79b2513008@drustvo-muc.si.eventure.si
DTSTAMP:20260421T154333Z
DTSTART:20251203T180025
DTEND:20251203T190025
SUMMARY:✨ DRAMILO ✨
DESCRIPTION:Pridružite se DRAMILU\, delavnici\, ki raziskuje življenjske izzive skozi žive postavitve. Izkušnje ustvarjalnosti\, biti navdahnjen in povezovanja!
LOCATION:Črnuče\, Trzin\, gasilski dom nov\, Slovenia
URL:https://drustvo-muc.si.eventure.si/hr/event/dramilo-5
END:VEVENT
END:VCALENDAR
