BEGIN:VCALENDAR
VERSION:2.0
PRODID:-//Yii2 Events//EN
BEGIN:VEVENT
UID:69e6e8a309e41@drustvo-muc.si.eventure.si
DTSTAMP:20260421T030155Z
DTSTART:20251112T180000
DTEND:20251112T190000
SUMMARY:✨ DRAMILO ✨
DESCRIPTION:Pridruži se DRAMILU v Trzinu in raziskuj temo SRAM. Doživi ustvarjalnost\, samospoznavanje in živo dramo. Vsako tretjo sredo ob 18:00.
LOCATION:Trzin\, Ljubljana ob Savi\, Slovenia
URL:https://drustvo-muc.si.eventure.si/hr/event/dramilo-4
END:VEVENT
END:VCALENDAR
