BEGIN:VCALENDAR
VERSION:2.0
PRODID:-//Yii2 Events//EN
BEGIN:VEVENT
UID:69e70c6d94712@drustvo-muc.si.eventure.si
DTSTAMP:20260421T053437Z
DTSTART:20260404T094500
DTEND:20260404T133300
SUMMARY:Diham z drevesi in vilami na Rašici
DESCRIPTION:Vstopi v čarobni prostor\, kjer se prepleteta BogDanova Vilinska dolina in DoroTejin Miroljub.\nV objemu Rašice te čaka celostno doživetje\, ki odpira (ne)vidne vezi med človekom\, naravo in skupnostjo: obred pri Kristalinski bukvi\, kresniško izročilo prednikov\, večdimenzionalni stik\, kakovost so-čutenja in pravljična bitja\, ki prebujajo tenkočutnost in igrivost\, ki jo od nekdaj nosimo v sebi.\nPridi v zavetje tihote\, zdravilnega zvoka\, prebujanja praspomina in stRasti do Življenja.
LOCATION:Rašica\, Rašica\, Ljubljana\, Slovenija
URL:https://drustvo-muc.si.eventure.si/hr/event/diham-z-drevesi-in-vilami-na-rasici
END:VEVENT
END:VCALENDAR
