BEGIN:VCALENDAR
VERSION:2.0
PRODID:-//Yii2 Events//EN
BEGIN:VEVENT
UID:69e7a1f1bff4e@drustvo-muc.si.eventure.si
DTSTAMP:20260421T161233Z
DTSTART:20251126T173000
DTEND:20251126T183000
SUMMARY:Delavnica poslovne strategije za zavestne podjetnike
DESCRIPTION:Pridruži se delavnici za poslovno strategijo zavestnih podjetnikov in razvij strateški načrt za uspeh svojega posla!
LOCATION:Coworking Pisarna Črnuče - prijeten ambient\, C. 24. Junija 23\, 1231 Ljubljana - Črnuče\, Slovenia
URL:https://drustvo-muc.si.eventure.si/hr/event/delavnica-poslovne-strategije-za-zavestne-podjetnike
END:VEVENT
END:VCALENDAR
