BEGIN:VCALENDAR
VERSION:2.0
PRODID:-//Yii2 Events//EN
BEGIN:VEVENT
UID:69e7786ab6c41@drustvo-muc.si.eventure.si
DTSTAMP:20260421T131522Z
DTSTART:20251024T163000
DTEND:20251024T210500
SUMMARY:Cacao Dance journey - Nina x Manu B2B Aleksander (live music) - Hybrid DJ & LIVE set 
DESCRIPTION:Pridružite se svobodnemu & ekstatičnemu plesu: Cacao Dance Journey z živim nastopom Nina x Manu B2B Aleksander.
LOCATION:Višja Vibracija\, Cesta Andreja Bitenca 68\, Ljubljana\, Slovenia
URL:https://drustvo-muc.si.eventure.si/hr/event/cacao-dance-journey-nina-x-manu-b2b-aleksander-live-music-hybrid-dj-live-set
END:VEVENT
END:VCALENDAR
