BEGIN:VCALENDAR
VERSION:2.0
PRODID:-//Yii2 Events//EN
BEGIN:VEVENT
UID:69e7b482737ab@drustvo-muc.si.eventure.si
DTSTAMP:20260421T173146Z
DTSTART:20250814T180000
DTEND:20250814T190000
SUMMARY:🌍 BOBNARSKI KROG IN ŠAMANSKO POTOVANJE 🌌
DESCRIPTION:Pridruži se terapevtskemu bobnarskemu krogu\, osredotočenemu na ravnovesje. Raziskuj izraznost skozi ritem in energijo.
LOCATION: Bližina Logatca\, Slovenia
URL:https://drustvo-muc.si.eventure.si/hr/event/bobnarski-krog-in-samansko-potovanje-3
END:VEVENT
END:VCALENDAR
