BEGIN:VCALENDAR
VERSION:2.0
PRODID:-//Yii2 Events//EN
BEGIN:VEVENT
UID:69e75e4b12b42@drustvo-muc.si.eventure.si
DTSTAMP:20260421T112355Z
DTSTART:20250613T200000
DTEND:20250613T210000
SUMMARY:Zvočna kopel z gongi 🛁🎶
DESCRIPTION:Pridruži se nam na zvočni kopeli z gongi\, kjer se boš sprostil ob zvokih\, ki podpirajo regeneracijo in notranje ravnovesje. Uživaj v globoki sprostitvi\, osveženju čustev in povezovanju s sabo. Ne pozabi na podlogo\, odejo in vodo!
LOCATION:Mladinski center Mengeš\, Slovenska cesta 28\, 1234 Mengeš\, Slovenia
URL:https://drustvo-muc.si.eventure.si/en/event/zvocna-kopel-z-gongi-2
END:VEVENT
END:VCALENDAR
