BEGIN:VCALENDAR
VERSION:2.0
PRODID:-//Yii2 Events//EN
BEGIN:VEVENT
UID:69e6cf2f75a5b@drustvo-muc.si.eventure.si
DTSTAMP:20260421T011319Z
DTSTART:20250104T100000
DTEND:20250104T110000
SUMMARY:ZAVESTNO V NOVO LETO
DESCRIPTION:
LOCATION:Višja Vibracija Ljubljana\, Slovenia
URL:https://drustvo-muc.si.eventure.si/en/event/zavestno-v-novo-leto
END:VEVENT
END:VCALENDAR
