BEGIN:VCALENDAR
VERSION:2.0
PRODID:-//Yii2 Events//EN
BEGIN:VEVENT
UID:69e6d4f250ae4@drustvo-muc.si.eventure.si
DTSTAMP:20260421T013754Z
DTSTART:20251008T150000
DTEND:20251008T160000
SUMMARY:Zakladjedelnica - Ustvarjalno Mesto za Majhne Velike Zaklade 💎✨
DESCRIPTION:Vsako sredo v MC ustvarjamo majhne zaklade za velike namene. Vse generacije so dobrodošle!
LOCATION:MC žalec\, Slovenia
URL:https://drustvo-muc.si.eventure.si/en/event/zakladjedelnica-ustvarjalno-mesto-za-majhne-velike-zaklade
END:VEVENT
END:VCALENDAR
