BEGIN:VCALENDAR
VERSION:2.0
PRODID:-//Yii2 Events//EN
BEGIN:VEVENT
UID:69e6e9123e775@drustvo-muc.si.eventure.si
DTSTAMP:20260421T030346Z
DTSTART:20250119T193000
DTEND:20250119T203000
SUMMARY:Vrach Live
DESCRIPTION:
LOCATION:MC Žalec\, Slovenia
URL:https://drustvo-muc.si.eventure.si/en/event/vrach-live
END:VEVENT
END:VCALENDAR
