BEGIN:VCALENDAR
VERSION:2.0
PRODID:-//Yii2 Events//EN
BEGIN:VEVENT
UID:69e6f29764f05@drustvo-muc.si.eventure.si
DTSTAMP:20260421T034423Z
DTSTART:20261002T150000
DTEND:20261004T190000
SUMMARY:Vikend nadaljevalna delavnica
DESCRIPTION:\n
LOCATION:Domačija doživetij Tešnak\, Hotavlje\, Hotavlje
URL:https://drustvo-muc.si.eventure.si/en/event/vikend-nadaljevalna-delavnica
END:VEVENT
END:VCALENDAR
