BEGIN:VCALENDAR
VERSION:2.0
PRODID:-//Yii2 Events//EN
BEGIN:VEVENT
UID:69e79c79484c3@drustvo-muc.si.eventure.si
DTSTAMP:20260421T154913Z
DTSTART:20260418T090000
DTEND:20260418T100000
SUMMARY:Tečaj USUI Reiki 1. stopnja
DESCRIPTION:Vabimo vas na Tečaj USUI Reiki 1. stopnje!\nOdkrijte moč univerzalne življenjske energije in začnite svojo pot samozdravljenja ter duhovne rasti. Reiki je starodavna tehnika naravnega zdravljenja s polaganjem rok\, ki vam omogoča\, uravnotežen način življenja\, brez blokad\, z boljšim počutjem\, tako fizično\, mentalno\, kakor čustveno. ​\nVsebina tečaja:\nZgodovina USUI Reikija​\nKaj je USUI Reiki​\nEnergijski centri telesa​\nAvrična telesa​\nUčinki in možnosti uporabe Reikija (samozdravljenje\, čiščenje in uravnovešanje energije sebi in drugim\, zdravljenje drugih\, čiščenje prostorov)​\nStopnje in simboli Reikija​\nIniciacija v prvo stopnjo in uporaba simbola CHO KU REI​\nPraktično delo polaganja rok in usmeritev pri nameri\, primeri prošenj​\nPodrobnosti tečaja:\nDatum in čas:\n18.4.2026\, od 9:00 do cca. 13:00\nKraj: Logatec\, lokacija odvisna od števila prijavljenih​\nCena: 130 €​\nPrednosti znanja veščin Reikija:\nSamozdravljenje: Reiki vam omogoča\, način življenja\, ki vodi k boljšemu fizičnemu in duševnemu zdravju. \nOsebna in duhovna rast: S pomočjo Reikija se lahko poglobite vase\, prepoznate in razrešite notranje blokade ter dosežete večjo harmonijo v življenju. ​\nObvladovanje stresa: Redna praksa Reikija pomaga pri sproščanju napetosti\, zmanjševanju stresa in izboljšanju splošnega počutja. ​\nPomoč drugim: S pridobljenim znanjem lahko pomagate tudi svojim bližnjim\, kar krepi medsebojne odnose in prinaša zadovoljstvo.​\nPo opravljenem tečaju prejmete certifikat\, ki potrjuje vašo usposobljenost za izvajanje Reikija 1. stopnje.​\nPrijave in dodatne informacije: Zaradi omejenega števila mest so prijave obvezne. Za prijavo in dodatne informacije kliknite na povezavo prijava ali nas kontaktirajte preko e-pošte info@sinhronica7.si ali telefona 071 821 533.​\nPridružite se nam in odkrijte moč Reikija!\nNamaste
LOCATION:Sinhronica7\, Stara cesta 65\, Logatec
URL:https://drustvo-muc.si.eventure.si/en/event/tecaj-usui-reiki-1-stopnja
END:VEVENT
END:VCALENDAR
