BEGIN:VCALENDAR
VERSION:2.0
PRODID:-//Yii2 Events//EN
BEGIN:VEVENT
UID:69e6ff42482b9@drustvo-muc.si.eventure.si
DTSTAMP:20260421T043826Z
DTSTART:20260527T200000
DTEND:20260527T213000
SUMMARY:Srčna Gong Kopel MAJ / Ljubljana 27.5.
DESCRIPTION:Pridružite se Srčni gong kopeli  v Ljubljani 27.5. ob 20h.\nProstor globoke sprostitve\, kjer se lahko ustavite\, zadihate in ponovno začutite stik s sabo.\nVeč o dogodku in prijava na gumbu spodaj.\nDobrodošli
LOCATION:Višja Vibracija\,  Ljubljana\, Ulica Andreja Bitenca 68\, Ljubljana\, Slovenia
URL:https://drustvo-muc.si.eventure.si/en/event/srcna-gong-kopel-maj-ljubljana-275
END:VEVENT
END:VCALENDAR
