BEGIN:VCALENDAR
VERSION:2.0
PRODID:-//Yii2 Events//EN
BEGIN:VEVENT
UID:69e747ca3d2b8@drustvo-muc.si.eventure.si
DTSTAMP:20260421T094754Z
DTSTART:20251024T190000
DTEND:20251024T203000
SUMMARY:Srčna Gong Kopel  Kromberk 24.10. - PORAVNAVA
DESCRIPTION:Pridružite se dogodku 'Zvočna Kopel: Poravnava' 24. oktobra v Kromberku. Doživite globoko sprostitev in harmonijo s pomočjo vibracij gongov.
LOCATION:KS KROMBERK\, Ulica Vinka Vodopivca 90\, Kromberk\, Slovenia
URL:https://drustvo-muc.si.eventure.si/en/event/srcna-gong-kopel-kromberk-2410-poravnava
END:VEVENT
END:VCALENDAR
