BEGIN:VCALENDAR
VERSION:2.0
PRODID:-//Yii2 Events//EN
BEGIN:VEVENT
UID:69e6d1e1eefa6@drustvo-muc.si.eventure.si
DTSTAMP:20260421T012449Z
DTSTART:20250812T180000
DTEND:20250812T190000
SUMMARY:🎶 Redna Brezplačna bobnarska delavnica in krog 🥁
DESCRIPTION:Pridružite se brezplačni bobnarski delavnici in krogu ter raziskujte ritme\, tehnike in ustvarjalnost. Primerno za vse ravni!
LOCATION:MC Hotel Žalec\, Slovenia
URL:https://drustvo-muc.si.eventure.si/en/event/redna-brezplacna-bobnarska-delavnica-in-krog-4
END:VEVENT
END:VCALENDAR
