BEGIN:VCALENDAR
VERSION:2.0
PRODID:-//Yii2 Events//EN
BEGIN:VEVENT
UID:69e725beb8fc1@drustvo-muc.si.eventure.si
DTSTAMP:20260421T072238Z
DTSTART:20250107T180000
DTEND:20250107T190000
SUMMARY:Redna Brezplačna Bobnarska Delavnica
DESCRIPTION:
LOCATION:MC Hotel Žalec\, Slovenia
URL:https://drustvo-muc.si.eventure.si/en/event/redna-brezpla%C4%8Dna-bobnarska-delavnica
END:VEVENT
END:VCALENDAR
