BEGIN:VCALENDAR
VERSION:2.0
PRODID:-//Yii2 Events//EN
BEGIN:VEVENT
UID:69e786b59f09c@drustvo-muc.si.eventure.si
DTSTAMP:20260421T141621Z
DTSTART:20250716T190000
DTEND:20250827T200000
SUMMARY:Qigong v parku
DESCRIPTION:Pridružite se naši brezplačni vadbi Qigong v parku vsak torek\, julija in avgusta 2025. Odkrijte čuječnost in sprostite um ter telo.
LOCATION:Park Martina Krpana\, Domžale\, Slovenia
URL:https://drustvo-muc.si.eventure.si/en/event/qigong-v-parku
END:VEVENT
END:VCALENDAR
