BEGIN:VCALENDAR
VERSION:2.0
PRODID:-//Yii2 Events//EN
BEGIN:VEVENT
UID:69e772f8473f3@drustvo-muc.si.eventure.si
DTSTAMP:20260421T125208Z
DTSTART:20250329T160000
DTEND:20250329T170000
SUMMARY:Melodija Narave - Bistrica ob Sotli
DESCRIPTION:Dragi ljubitelji glasbe in narave\, vabim vas na posebno delavnico igranja na Hummingbird Flutes – flavte v slogu severnoameriških staroselcev.
LOCATION:Slovenia
URL:https://drustvo-muc.si.eventure.si/en/event/melodija-narave-bistrica-ob-sotli
END:VEVENT
END:VCALENDAR
