BEGIN:VCALENDAR
VERSION:2.0
PRODID:-//Yii2 Events//EN
BEGIN:VEVENT
UID:69e6e9726866d@drustvo-muc.si.eventure.si
DTSTAMP:20260421T030522Z
DTSTART:20250117T183000
DTEND:20250117T193000
SUMMARY:Madre Selva - Koncert
DESCRIPTION:
LOCATION:Orfej Vrhnika\, Slovenia
URL:https://drustvo-muc.si.eventure.si/en/event/madre-selva---koncert
END:VEVENT
END:VCALENDAR
