BEGIN:VCALENDAR
VERSION:2.0
PRODID:-//Yii2 Events//EN
BEGIN:VEVENT
UID:69e70bb173613@drustvo-muc.si.eventure.si
DTSTAMP:20260421T053129Z
DTSTART:20250626T200000
DTEND:20250626T213000
SUMMARY:Klic duše - Srčna Gong Kopel Kromberk
DESCRIPTION:Pridruži se srčni gong kopeli "Klic duše" in odkrij notranjo naravo. Globoka sprostitev\, povezava s srcem in energija poletja te že čaka!
LOCATION:KS KROMBERK\, Ulica Vinka Vodopivca 90\, Kromberk\, Slovenia
URL:https://drustvo-muc.si.eventure.si/en/event/klic-duse-srcna-gong-kopel-kromberk
END:VEVENT
END:VCALENDAR
