BEGIN:VCALENDAR
VERSION:2.0
PRODID:-//Yii2 Events//EN
BEGIN:VEVENT
UID:69e6f7db83d38@drustvo-muc.si.eventure.si
DTSTAMP:20260421T040651Z
DTSTART:20241224T170000
DTEND:20241224T200000
SUMMARY:Kakav Ceremonija ~ Alkimija Srca
DESCRIPTION:Vsak obred je edinstvena zgodba\, ki jo soustvarimo povezani v krogu. Skozi proces alkimije srca se vračamo v naše naravno stanje ravnovesja in harmonije. Kakav ceremonija je voden obred\, ki odpira našo srčno čakro. Kakav nas na nežen in ljubeč način popelje v srce. Uravnoveša telo\, srce in um. KAKO POTEKA OBRED: V krogu povezani soustvarimo sveti prostor primeren za ceremonijo. Obredno spijemo kakav in se prepustimo toku ceremonije. Soustvarjamo edinstveno zgodbo glede na energijo dneva\,...
LOCATION:Višja Vibracija\, Cesta Andreja Bitenca 68\, Slovenia
URL:https://drustvo-muc.si.eventure.si/en/event/kakav-ceremonija-alkimija-srca
END:VEVENT
END:VCALENDAR
