BEGIN:VCALENDAR
VERSION:2.0
PRODID:-//Yii2 Events//EN
BEGIN:VEVENT
UID:69e7626896164@drustvo-muc.si.eventure.si
DTSTAMP:20260421T114128Z
DTSTART:20250909T180000
DTEND:20250909T193000
SUMMARY:Delavnica samospoznavanja z meditacijo na SKALARNIH VALOVIH
DESCRIPTION:Raziskujte odpuščanje na delavnici samospoznavanja in meditacije. Spoznajte tehnike zdravljenja za svobodno in zdravo življenje.
LOCATION:Šlandrova ulica 8d\, Slovenia
URL:https://drustvo-muc.si.eventure.si/en/event/delavnica-samospoznavanja-z-meditacijo-na-skalarnih-valovih
END:VEVENT
END:VCALENDAR
