BEGIN:VCALENDAR
VERSION:2.0
PRODID:-//Yii2 Events//EN
BEGIN:VEVENT
UID:69e6cf2f75998@drustvo-muc.si.eventure.si
DTSTAMP:20260421T011319Z
DTSTART:20241217T180000
DTEND:20241217T190000
SUMMARY:Bobnarska delavnica in krog
DESCRIPTION:
LOCATION:MC Žalec\, Slovenia
URL:https://drustvo-muc.si.eventure.si/en/event/bobnarska-delavnica-in-krog-2
END:VEVENT
END:VCALENDAR
